BEGIN:VCALENDAR
VERSION:2.0
PRODID:-//Suffolk-County - ECPv6.15.11//NONSGML v1.0//EN
CALSCALE:GREGORIAN
METHOD:PUBLISH
X-ORIGINAL-URL:https://www.suffolkcountyda.org
X-WR-CALDESC:Events for Suffolk-County
REFRESH-INTERVAL;VALUE=DURATION:PT1H
X-Robots-Tag:noindex
X-PUBLISHED-TTL:PT1H
BEGIN:VTIMEZONE
TZID:America/New_York
BEGIN:DAYLIGHT
TZOFFSETFROM:-0500
TZOFFSETTO:-0400
TZNAME:EDT
DTSTART:20240310T070000
END:DAYLIGHT
BEGIN:STANDARD
TZOFFSETFROM:-0400
TZOFFSETTO:-0500
TZNAME:EST
DTSTART:20241103T060000
END:STANDARD
BEGIN:DAYLIGHT
TZOFFSETFROM:-0500
TZOFFSETTO:-0400
TZNAME:EDT
DTSTART:20250309T070000
END:DAYLIGHT
BEGIN:STANDARD
TZOFFSETFROM:-0400
TZOFFSETTO:-0500
TZNAME:EST
DTSTART:20251102T060000
END:STANDARD
BEGIN:DAYLIGHT
TZOFFSETFROM:-0500
TZOFFSETTO:-0400
TZNAME:EDT
DTSTART:20260308T070000
END:DAYLIGHT
BEGIN:STANDARD
TZOFFSETFROM:-0400
TZOFFSETTO:-0500
TZNAME:EST
DTSTART:20261101T060000
END:STANDARD
END:VTIMEZONE
BEGIN:VEVENT
DTSTART;TZID=America/New_York:20250512T100000
DTEND;TZID=America/New_York:20250512T120000
DTSTAMP:20260421T065056
CREATED:20250509T180854Z
LAST-MODIFIED:20250509T180856Z
UID:10000097-1747044000-1747051200@www.suffolkcountyda.org
SUMMARY:“We Stand Aware” Sag Harbor Narcan Training
DESCRIPTION:May 12\, 2025\, 10:00am – 12:00pm\n“We Stand Aware” Sag Harbor Narcan Training  \nSag Harbor Fire Department\n1357 Brick Kiln Road\nSag Harbor\, NY 11963 \nDescription: Please join the Sag Harbor Village Fire Department for this community Narcan training event! Presented by Deputy Sheriff Investigator Sgt. Weick of the Suffolk County Sheriff’s Office\, The Sag Harbor Chamber of Commerce and David Falkowski of Open-Minded Organics (OMO). This event is free to all individuals and businesses who wish to attend.
URL:https://www.suffolkcountyda.org/event/we-stand-aware-sag-harbor-narcan-training/
LOCATION:Sag Habor Fire Department\, 1357 Brick Kiln Road\, Sag Harbor\, NY\, 11963\, United States
CATEGORIES:East End,suffolk
ATTACH;FMTTYPE=image/jpeg:https://www.suffolkcountyda.org/wp-content/uploads/EVENT-LOGO-1-1.jpg
END:VEVENT
END:VCALENDAR