BEGIN:VCALENDAR
VERSION:2.0
PRODID:-//Suffolk-County - ECPv6.15.11//NONSGML v1.0//EN
CALSCALE:GREGORIAN
METHOD:PUBLISH
X-ORIGINAL-URL:https://www.suffolkcountyda.org
X-WR-CALDESC:Events for Suffolk-County
REFRESH-INTERVAL;VALUE=DURATION:PT1H
X-Robots-Tag:noindex
X-PUBLISHED-TTL:PT1H
BEGIN:VTIMEZONE
TZID:America/New_York
BEGIN:DAYLIGHT
TZOFFSETFROM:-0500
TZOFFSETTO:-0400
TZNAME:EDT
DTSTART:20250309T070000
END:DAYLIGHT
BEGIN:STANDARD
TZOFFSETFROM:-0400
TZOFFSETTO:-0500
TZNAME:EST
DTSTART:20251102T060000
END:STANDARD
BEGIN:DAYLIGHT
TZOFFSETFROM:-0500
TZOFFSETTO:-0400
TZNAME:EDT
DTSTART:20260308T070000
END:DAYLIGHT
BEGIN:STANDARD
TZOFFSETFROM:-0400
TZOFFSETTO:-0500
TZNAME:EST
DTSTART:20261101T060000
END:STANDARD
BEGIN:DAYLIGHT
TZOFFSETFROM:-0500
TZOFFSETTO:-0400
TZNAME:EDT
DTSTART:20270314T070000
END:DAYLIGHT
BEGIN:STANDARD
TZOFFSETFROM:-0400
TZOFFSETTO:-0500
TZNAME:EST
DTSTART:20271107T060000
END:STANDARD
END:VTIMEZONE
BEGIN:VEVENT
DTSTART;TZID=America/New_York:20260305T120000
DTEND;TZID=America/New_York:20260305T130000
DTSTAMP:20260421T064639
CREATED:20260218T141730Z
LAST-MODIFIED:20260218T141730Z
UID:10000326-1772712000-1772715600@www.suffolkcountyda.org
SUMMARY:SCPD First Precinct Community Meeting
DESCRIPTION:March 5\, 2026\, 12:00pm – 1:00pm\nSCPD First Precinct Community Meeting\nCopiague Library\n50 Deauville Blvd\nCopiague\, NY 11726  \nDescription: Join the 1st precinct each month to discuss what is happening in YOUR community and police department.
URL:https://www.suffolkcountyda.org/event/scpd-first-precinct-community-meeting-2/
LOCATION:Copiague Library\, 50 Deauville Blvd\, Copiague\, NY\, 11772\, United States
CATEGORIES:suffolk,Town of Babylon
ATTACH;FMTTYPE=image/jpeg:https://www.suffolkcountyda.org/wp-content/uploads/EVENT-LOGO-1-1.jpg
END:VEVENT
END:VCALENDAR